BEGIN:VCALENDAR
VERSION:2.0
PRODID:-//eventon.com NONSGML v1.0//EN
CALSCALE:GREGORIAN
METHOD:PUBLISH
BEGIN:VEVENT
UID:69e73a7d4f08a
DTSTAMP:20260421T085109Z
DTSTART:20250109
DTEND:20250110
LOCATION:
SUMMARY:Jeudredi tout est permis!
DESCRIPTION:Dress code :Optez pour une tenue soignée\,  classe\, élégant
 e ou sexy mais vous pouvez aussi laisser libre cours à vos envies avec un 
 style fétish/kink. Que vous choisissiez le raffinement ou l’audace\,  fa
 ites en sorte que votre style reflète l’essence de cette nuit unique.En 
 revanche\,  les tenues de type casual wear\, [..]\nhttps://trafick.ch/event
 s/symbiose-nocturne/
URL:https://trafick.ch/events/symbiose-nocturne/
END:VEVENT
END:VCALENDAR