BEGIN:VCALENDAR
VERSION:2.0
PRODID:-//eventon.com NONSGML v1.0//EN
CALSCALE:GREGORIAN
METHOD:PUBLISH
BEGIN:VEVENT
UID:69eca15eb1d14
DTSTAMP:20260425T111126Z
DTSTART:20260424
DTEND:20260425
LOCATION:Trafick Club Avenue de Tivoli 22\,  Lausanne
SUMMARY:Disco Fluo
DESCRIPTION:Dress Code : Pour cette soirée spéciale\,  un vêtement ou un
  accessoire fluo est obligatoire mais pas de panique\,  on vous en met à d
 isposition à l&rsquo;entrée. Osez les matières brillantes\,  les tenues 
 pailletées et les couleurs éclatantes qui révèlent chaque mouvement sou
 s les lumières noires. Laissez la fièvre du[..]\nhttps://trafick.ch/event
 s/disco-fluo-2/
URL:https://trafick.ch/events/disco-fluo-2/
END:VEVENT
END:VCALENDAR