BEGIN:VCALENDAR
VERSION:2.0
PRODID:-//eventon.com NONSGML v1.0//EN
CALSCALE:GREGORIAN
METHOD:PUBLISH
BEGIN:VEVENT
UID:69e74fadc76a6
DTSTAMP:20260421T102133Z
DTSTART:20260612
DTEND:20260613
LOCATION:Trafick Club Avenue de Tivoli 22\,  Lausanne
SUMMARY:Kinksters Night
DESCRIPTION:Dress code :Voir le dress code demandé dans l’onglet “dres
 s code” ou sur le lien suivant\,  merci de tout lirehttps://trafick.ch/dr
 esscode/ Tarif : Membres :35 CHF par personne\,  incluant une boisson (biè
 re pression ou soda non premium) Non Membres :45 CHF par personne\,  inclua
 nt une boisson (bière pression ou soda non[..]\nhttps://trafick.ch/events/
 kinksters-night-26/
URL:https://trafick.ch/events/kinksters-night-26/
END:VEVENT
END:VCALENDAR